BEGIN:VCALENDAR
VERSION:2.0
PRODID:-//Rockcyclus - ECPv5.16.0//NONSGML v1.0//EN
CALSCALE:GREGORIAN
METHOD:PUBLISH
X-WR-CALNAME:Rockcyclus
X-ORIGINAL-URL:https://rockcyclus.de
X-WR-CALDESC:Veranstaltungen für Rockcyclus
BEGIN:VTIMEZONE
TZID:UTC
BEGIN:STANDARD
TZOFFSETFROM:+0000
TZOFFSETTO:+0000
TZNAME:UTC
DTSTART:20190101T000000
END:STANDARD
END:VTIMEZONE
BEGIN:VEVENT
DTSTART;TZID=UTC:20190601T190000
DTEND;TZID=UTC:20190601T190000
DTSTAMP:20260424T213659
CREATED:20190529T111316Z
LAST-MODIFIED:20190529T111316Z
UID:5861-1559415600-1559415600@rockcyclus.de
SUMMARY:1. Moshpit Festival | Definition Of Insanity
DESCRIPTION:https://www.moshpit-festival.de\nhttps://www.facebook.com/DefinitionofInsanity/
URL:https://rockcyclus.de/event/1-moshpit-festival-definition-of-insanity/
LOCATION:Schlachthof Bremen\, Findorfstraße 51\, Bremen\, 28215
END:VEVENT
END:VCALENDAR