BEGIN:VCALENDAR
VERSION:2.0
PRODID:-//Rockcyclus - ECPv5.16.0//NONSGML v1.0//EN
CALSCALE:GREGORIAN
METHOD:PUBLISH
X-WR-CALNAME:Rockcyclus
X-ORIGINAL-URL:https://rockcyclus.de
X-WR-CALDESC:Veranstaltungen für Rockcyclus
BEGIN:VTIMEZONE
TZID:UTC
BEGIN:STANDARD
TZOFFSETFROM:+0000
TZOFFSETTO:+0000
TZNAME:UTC
DTSTART:20190101T000000
END:STANDARD
END:VTIMEZONE
BEGIN:VEVENT
DTSTART;TZID=UTC:20190504T190000
DTEND;TZID=UTC:20190504T190000
DTSTAMP:20260425T195805
CREATED:20190419T141412Z
LAST-MODIFIED:20190419T141412Z
UID:5705-1556996400-1556996400@rockcyclus.de
SUMMARY:3. Oeser RockZirkus 2019
DESCRIPTION:Dinkleberries: https://www.facebook.com/dinkleberries/\nCrashland: https://www.crashland.net\nBMad: https://www.facebook.com/BMadrockt/
URL:https://rockcyclus.de/event/3-oeser-rockzirkus-2019/
LOCATION:RockZirkus\, Hauptstraße 14\, Basdahl\, 27432
END:VEVENT
END:VCALENDAR