BEGIN:VCALENDAR
VERSION:2.0
PRODID:-//Rockcyclus - ECPv5.16.0//NONSGML v1.0//EN
CALSCALE:GREGORIAN
METHOD:PUBLISH
X-WR-CALNAME:Rockcyclus
X-ORIGINAL-URL:https://rockcyclus.de
X-WR-CALDESC:Veranstaltungen für Rockcyclus
BEGIN:VTIMEZONE
TZID:UTC
BEGIN:STANDARD
TZOFFSETFROM:+0000
TZOFFSETTO:+0000
TZNAME:UTC
DTSTART:20170101T000000
END:STANDARD
END:VTIMEZONE
BEGIN:VEVENT
DTSTART;TZID=UTC:20171110T180000
DTEND;TZID=UTC:20171110T180000
DTSTAMP:20260423T194047
CREATED:20171105T140203Z
LAST-MODIFIED:20171105T140203Z
UID:2174-1510336800-1510336800@rockcyclus.de
SUMMARY:8. Bremer Metalfestival
DESCRIPTION:Ernste Spass Band – Demersal – Clear Sky Nailstorm – Lost World Order – Cobra Cult – Noisi Forest
URL:https://rockcyclus.de/event/8-bremer-metalfestival/
LOCATION:Meisenfrei\, Hankenstraße 18\, Bremen\, 28195
END:VEVENT
END:VCALENDAR