BEGIN:VCALENDAR
VERSION:2.0
PRODID:-//Rockcyclus - ECPv5.16.0//NONSGML v1.0//EN
CALSCALE:GREGORIAN
METHOD:PUBLISH
X-WR-CALNAME:Rockcyclus
X-ORIGINAL-URL:https://rockcyclus.de
X-WR-CALDESC:Veranstaltungen für Rockcyclus
BEGIN:VTIMEZONE
TZID:UTC
BEGIN:STANDARD
TZOFFSETFROM:+0000
TZOFFSETTO:+0000
TZNAME:UTC
DTSTART:20170101T000000
END:STANDARD
END:VTIMEZONE
BEGIN:VEVENT
DTSTART;TZID=UTC:20170915T200000
DTEND;TZID=UTC:20170915T200000
DTSTAMP:20260422T150715
CREATED:20170828T131926Z
LAST-MODIFIED:20170828T132059Z
UID:1756-1505505600-1505505600@rockcyclus.de
SUMMARY:Achim Reichel - A. R. & The Machines
DESCRIPTION:»The Art of German Psychedelic« Achim Reichel guitars – Nils Hoffmann keyboard\, guitar – Achim Rafain bass guitar – Olaf Casalich percussion – Yogi Jockusch percussion – Stefan Wulff live electronics
URL:https://rockcyclus.de/event/achim-reichel-a-r-the-machines/
LOCATION:Elbphilharmonie\, Platz der Deutschen Einheit\, Hamburg\, 20457
ATTACH;FMTTYPE=image/jpeg:https://rockcyclus.de/wp-content/uploads/2017/03/achim-reichel-rc-bp.jpg
END:VEVENT
END:VCALENDAR