BEGIN:VCALENDAR
VERSION:2.0
PRODID:-//Rockcyclus - ECPv5.16.0//NONSGML v1.0//EN
CALSCALE:GREGORIAN
METHOD:PUBLISH
X-WR-CALNAME:Rockcyclus
X-ORIGINAL-URL:https://rockcyclus.de
X-WR-CALDESC:Veranstaltungen für Rockcyclus
BEGIN:VTIMEZONE
TZID:UTC
BEGIN:STANDARD
TZOFFSETFROM:+0000
TZOFFSETTO:+0000
TZNAME:UTC
DTSTART:20180101T000000
END:STANDARD
END:VTIMEZONE
BEGIN:VEVENT
DTSTART;TZID=UTC:20181019T203000
DTEND;TZID=UTC:20181019T203000
DTSTAMP:20260420T223018
CREATED:20180213T112948Z
LAST-MODIFIED:20180702T150704Z
UID:2922-1539981000-1539981000@rockcyclus.de
SUMMARY:Acoubastics
DESCRIPTION:
URL:https://rockcyclus.de/event/acoubastics-10/
LOCATION:Bistro Journal\, Langenberg 2\, Schwanewede\, Niedersachsen\, 28790\, Deutschland
ATTACH;FMTTYPE=image/jpeg:https://rockcyclus.de/wp-content/uploads/2018/03/aqb-live-mr-2017.jpg
END:VEVENT
END:VCALENDAR