BEGIN:VCALENDAR
VERSION:2.0
PRODID:-//Rockcyclus - ECPv5.16.0//NONSGML v1.0//EN
CALSCALE:GREGORIAN
METHOD:PUBLISH
X-WR-CALNAME:Rockcyclus
X-ORIGINAL-URL:https://rockcyclus.de
X-WR-CALDESC:Veranstaltungen für Rockcyclus
BEGIN:VTIMEZONE
TZID:UTC
BEGIN:STANDARD
TZOFFSETFROM:+0000
TZOFFSETTO:+0000
TZNAME:UTC
DTSTART:20170101T000000
END:STANDARD
END:VTIMEZONE
BEGIN:VEVENT
DTSTART;TZID=UTC:20170915T210000
DTEND;TZID=UTC:20170915T210000
DTSTAMP:20260420T112417
CREATED:20170807T171414Z
LAST-MODIFIED:20170814T105328Z
UID:1611-1505509200-1505509200@rockcyclus.de
SUMMARY:Acoubastics
DESCRIPTION:
URL:https://rockcyclus.de/event/acoubastics-6/
LOCATION:Sunshine Bar\, Bgm.-Smidt-Str. 192\, Bremerhaven\, 27568
ATTACH;FMTTYPE=image/jpeg:https://rockcyclus.de/wp-content/uploads/2017/03/Acoubastics_bp.jpg
END:VEVENT
END:VCALENDAR