BEGIN:VCALENDAR
VERSION:2.0
PRODID:-//Rockcyclus - ECPv5.16.0//NONSGML v1.0//EN
CALSCALE:GREGORIAN
METHOD:PUBLISH
X-WR-CALNAME:Rockcyclus
X-ORIGINAL-URL:https://rockcyclus.de
X-WR-CALDESC:Veranstaltungen für Rockcyclus
BEGIN:VTIMEZONE
TZID:UTC
BEGIN:STANDARD
TZOFFSETFROM:+0000
TZOFFSETTO:+0000
TZNAME:UTC
DTSTART:20180101T000000
END:STANDARD
END:VTIMEZONE
BEGIN:VEVENT
DTSTART;TZID=UTC:20181019T080000
DTEND;TZID=UTC:20181019T170000
DTSTAMP:20260420T203106
CREATED:20181001T172244Z
LAST-MODIFIED:20181001T172244Z
UID:4687-1539936000-1539968400@rockcyclus.de
SUMMARY:All But Silence | Rauschflut | Expand
DESCRIPTION:www.facebook.com/AllButSilence/\nwww.facebook.com/Rauschflut/\nwww.facebook.com/expandrock/
URL:https://rockcyclus.de/event/all-but-silence-rauschflut-expand/
LOCATION:Herbstmarkt\, Festzelt\, Gnarrenburg
END:VEVENT
END:VCALENDAR