BEGIN:VCALENDAR
VERSION:2.0
PRODID:-//Rockcyclus - ECPv5.16.0//NONSGML v1.0//EN
CALSCALE:GREGORIAN
METHOD:PUBLISH
X-WR-CALNAME:Rockcyclus
X-ORIGINAL-URL:https://rockcyclus.de
X-WR-CALDESC:Veranstaltungen für Rockcyclus
BEGIN:VTIMEZONE
TZID:UTC
BEGIN:STANDARD
TZOFFSETFROM:+0000
TZOFFSETTO:+0000
TZNAME:UTC
DTSTART:20180101T000000
END:STANDARD
END:VTIMEZONE
BEGIN:VEVENT
DTSTART;TZID=UTC:20180421T200000
DTEND;TZID=UTC:20180421T200000
DTSTAMP:20260420T133458
CREATED:20180331T150213Z
LAST-MODIFIED:20180331T150213Z
UID:3179-1524340800-1524340800@rockcyclus.de
SUMMARY:All But Silence & The Palm Set
DESCRIPTION:https://www.facebook.com/thepalmset/ \nhttps://www.facebook.com/AllButSilence/
URL:https://rockcyclus.de/event/all-but-silence-the-palm-set/
LOCATION:Jahnhalle\, Jahnstraße 20\, Nordenham\, 26954
END:VEVENT
END:VCALENDAR