BEGIN:VCALENDAR
VERSION:2.0
PRODID:-//Rockcyclus - ECPv5.16.0//NONSGML v1.0//EN
CALSCALE:GREGORIAN
METHOD:PUBLISH
X-WR-CALNAME:Rockcyclus
X-ORIGINAL-URL:https://rockcyclus.de
X-WR-CALDESC:Veranstaltungen für Rockcyclus
BEGIN:VTIMEZONE
TZID:UTC
BEGIN:STANDARD
TZOFFSETFROM:+0000
TZOFFSETTO:+0000
TZNAME:UTC
DTSTART:20190101T000000
END:STANDARD
END:VTIMEZONE
BEGIN:VEVENT
DTSTART;TZID=UTC:20190817T203000
DTEND;TZID=UTC:20190817T203000
DTSTAMP:20260421T041906
CREATED:20190727T125759Z
LAST-MODIFIED:20190727T125759Z
UID:6223-1566073800-1566073800@rockcyclus.de
SUMMARY:Andrea Türk Projekt
DESCRIPTION:https://www.facebook.com/Andrea-Türk-Sängerin-171031256308364
URL:https://rockcyclus.de/event/andrea-tuerk-projekt/
LOCATION:Cafe de Fiets\, Bgm.Smidt-Str. 155\, Bremerhaven\, 27568
END:VEVENT
END:VCALENDAR