BEGIN:VCALENDAR
VERSION:2.0
PRODID:-//Rockcyclus - ECPv5.16.0//NONSGML v1.0//EN
CALSCALE:GREGORIAN
METHOD:PUBLISH
X-WR-CALNAME:Rockcyclus
X-ORIGINAL-URL:https://rockcyclus.de
X-WR-CALDESC:Veranstaltungen für Rockcyclus
BEGIN:VTIMEZONE
TZID:UTC
BEGIN:STANDARD
TZOFFSETFROM:+0000
TZOFFSETTO:+0000
TZNAME:UTC
DTSTART:20190101T000000
END:STANDARD
END:VTIMEZONE
BEGIN:VEVENT
DTSTART;TZID=UTC:20190706T203000
DTEND;TZID=UTC:20190706T203000
DTSTAMP:20260422T013442
CREATED:20190406T100154Z
LAST-MODIFIED:20190406T100154Z
UID:5646-1562445000-1562445000@rockcyclus.de
SUMMARY:Andys Warmup
DESCRIPTION:Die Meldung – https://www.facebook.com/DieMeldung/\nReiche Söhne – https://www.reiche-soehne.de/
URL:https://rockcyclus.de/event/andys-warmup/
LOCATION:Jahnhalle\, Jahnstraße 20\, Nordenham\, 26954
END:VEVENT
END:VCALENDAR