BEGIN:VCALENDAR
VERSION:2.0
PRODID:-//Rockcyclus - ECPv5.16.0//NONSGML v1.0//EN
CALSCALE:GREGORIAN
METHOD:PUBLISH
X-WR-CALNAME:Rockcyclus
X-ORIGINAL-URL:https://rockcyclus.de
X-WR-CALDESC:Veranstaltungen für Rockcyclus
BEGIN:VTIMEZONE
TZID:UTC
BEGIN:STANDARD
TZOFFSETFROM:+0000
TZOFFSETTO:+0000
TZNAME:UTC
DTSTART:20170101T000000
END:STANDARD
END:VTIMEZONE
BEGIN:VEVENT
DTSTART;TZID=UTC:20171110T193000
DTEND;TZID=UTC:20171110T193000
DTSTAMP:20260423T211917
CREATED:20170704T123925Z
LAST-MODIFIED:20170704T124125Z
UID:1405-1510342200-1510342200@rockcyclus.de
SUMMARY:Armando Balke Swing Quintett - Begegnungen
DESCRIPTION:https://www.vhs-bremerhaven.de/index.php?option=com_wrapper&view=wrapper&Itemid=263
URL:https://rockcyclus.de/event/armando-balke-swing-quintett-begegnungen/
LOCATION:VHS Bremerhaven\, Lloydstraße 15\, Bremerhaven\, 27568
END:VEVENT
END:VCALENDAR