BEGIN:VCALENDAR
VERSION:2.0
PRODID:-//Rockcyclus - ECPv5.16.0//NONSGML v1.0//EN
CALSCALE:GREGORIAN
METHOD:PUBLISH
X-WR-CALNAME:Rockcyclus
X-ORIGINAL-URL:https://rockcyclus.de
X-WR-CALDESC:Veranstaltungen für Rockcyclus
BEGIN:VTIMEZONE
TZID:UTC
BEGIN:STANDARD
TZOFFSETFROM:+0000
TZOFFSETTO:+0000
TZNAME:UTC
DTSTART:20170101T000000
END:STANDARD
END:VTIMEZONE
BEGIN:VEVENT
DTSTART;TZID=UTC:20170909T213000
DTEND;TZID=UTC:20170909T213000
DTSTAMP:20260422T220847
CREATED:20170905T104833Z
LAST-MODIFIED:20170905T104833Z
UID:1796-1504992600-1504992600@rockcyclus.de
SUMMARY:Baby Kreuzberg
DESCRIPTION:
URL:https://rockcyclus.de/event/baby-kreuzberg/
LOCATION:Cafe de Fiets\, Bgm.Smidt-Str. 155\, Bremerhaven\, 27568
END:VEVENT
END:VCALENDAR