BEGIN:VCALENDAR
VERSION:2.0
PRODID:-//Rockcyclus - ECPv5.16.0//NONSGML v1.0//EN
CALSCALE:GREGORIAN
METHOD:PUBLISH
X-WR-CALNAME:Rockcyclus
X-ORIGINAL-URL:https://rockcyclus.de
X-WR-CALDESC:Veranstaltungen für Rockcyclus
BEGIN:VTIMEZONE
TZID:UTC
BEGIN:STANDARD
TZOFFSETFROM:+0000
TZOFFSETTO:+0000
TZNAME:UTC
DTSTART:20170101T000000
END:STANDARD
END:VTIMEZONE
BEGIN:VEVENT
DTSTART;TZID=UTC:20170901T180000
DTEND;TZID=UTC:20170901T230000
DTSTAMP:20260424T075927
CREATED:20170721T175207Z
LAST-MODIFIED:20170828T120203Z
UID:1504-1504288800-1504306800@rockcyclus.de
SUMMARY:Bandcontest 2017
DESCRIPTION:The Lloyd’s – Glitch Perfect – Eigentlich Alles – Silas Herder – Friendzy – Akkusticks – Kollateralnutzen
URL:https://rockcyclus.de/event/bandcontest-2017/
LOCATION:SZ-Carl von Ossietzky\, Schiffdorfer Chaussee 97\, Bremerhaven\, 27574
ATTACH;FMTTYPE=image/jpeg:https://rockcyclus.de/wp-content/uploads/2017/08/eigentlich_alles-pr2017.jpg
END:VEVENT
END:VCALENDAR