BEGIN:VCALENDAR
VERSION:2.0
PRODID:-//Rockcyclus - ECPv5.16.0//NONSGML v1.0//EN
CALSCALE:GREGORIAN
METHOD:PUBLISH
X-WR-CALNAME:Rockcyclus
X-ORIGINAL-URL:https://rockcyclus.de
X-WR-CALDESC:Veranstaltungen für Rockcyclus
BEGIN:VTIMEZONE
TZID:UTC
BEGIN:STANDARD
TZOFFSETFROM:+0000
TZOFFSETTO:+0000
TZNAME:UTC
DTSTART:20180101T000000
END:STANDARD
END:VTIMEZONE
BEGIN:VEVENT
DTSTART;TZID=UTC:20181124T203000
DTEND;TZID=UTC:20181124T203000
DTSTAMP:20260423T103830
CREATED:20181115T192715Z
LAST-MODIFIED:20181115T192715Z
UID:4900-1543091400-1543091400@rockcyclus.de
SUMMARY:Beiwerk & Fuzziebär
DESCRIPTION:https://www.facebook.com/Fuzziebaer/
URL:https://rockcyclus.de/event/beiwerk-fuzziebaer/
LOCATION:Döser Börse\, Strichweg 22\, Cuxhaven\, Niedersachsen\, 27472\, Deutschland
END:VEVENT
END:VCALENDAR