BEGIN:VCALENDAR
VERSION:2.0
PRODID:-//Rockcyclus - ECPv5.16.0//NONSGML v1.0//EN
CALSCALE:GREGORIAN
METHOD:PUBLISH
X-WR-CALNAME:Rockcyclus
X-ORIGINAL-URL:https://rockcyclus.de
X-WR-CALDESC:Veranstaltungen für Rockcyclus
BEGIN:VTIMEZONE
TZID:UTC
BEGIN:STANDARD
TZOFFSETFROM:+0000
TZOFFSETTO:+0000
TZNAME:UTC
DTSTART:20190101T000000
END:STANDARD
END:VTIMEZONE
BEGIN:VEVENT
DTSTART;TZID=UTC:20190430T210000
DTEND;TZID=UTC:20190430T210000
DTSTAMP:20260423T125448
CREATED:20190404T093646Z
LAST-MODIFIED:20190404T093646Z
UID:5620-1556658000-1556658000@rockcyclus.de
SUMMARY:Bläck Jäck
DESCRIPTION:
URL:https://rockcyclus.de/event/blaeck-jaeck/
LOCATION:Janjas Musikbar\, Strichweg 39\, Cuxhaven
END:VEVENT
END:VCALENDAR