BEGIN:VCALENDAR
VERSION:2.0
PRODID:-//Rockcyclus - ECPv5.16.0//NONSGML v1.0//EN
CALSCALE:GREGORIAN
METHOD:PUBLISH
X-WR-CALNAME:Rockcyclus
X-ORIGINAL-URL:https://rockcyclus.de
X-WR-CALDESC:Veranstaltungen für Rockcyclus
BEGIN:VTIMEZONE
TZID:UTC
BEGIN:STANDARD
TZOFFSETFROM:+0000
TZOFFSETTO:+0000
TZNAME:UTC
DTSTART:20180101T000000
END:STANDARD
END:VTIMEZONE
BEGIN:VEVENT
DTSTART;TZID=UTC:20181102T190000
DTEND;TZID=UTC:20181102T190000
DTSTAMP:20260420T172204
CREATED:20180803T102837Z
LAST-MODIFIED:20181029T154743Z
UID:4153-1541185200-1541185200@rockcyclus.de
SUMMARY:GospelRocks
DESCRIPTION:https://www.freun.de/gospelrocks-fuer-foerderverein/
URL:https://rockcyclus.de/event/blast-bomb-und-dukes-of-bordello/
LOCATION:St. Nicolai Kirche\, Moorstr. 20\, Uthlede\, 27628
END:VEVENT
END:VCALENDAR