BEGIN:VCALENDAR
VERSION:2.0
PRODID:-//Rockcyclus - ECPv5.16.0//NONSGML v1.0//EN
CALSCALE:GREGORIAN
METHOD:PUBLISH
X-WR-CALNAME:Rockcyclus
X-ORIGINAL-URL:https://rockcyclus.de
X-WR-CALDESC:Veranstaltungen für Rockcyclus
BEGIN:VTIMEZONE
TZID:UTC
BEGIN:STANDARD
TZOFFSETFROM:+0000
TZOFFSETTO:+0000
TZNAME:UTC
DTSTART:20190101T000000
END:STANDARD
END:VTIMEZONE
BEGIN:VEVENT
DTSTART;TZID=UTC:20190627T193000
DTEND;TZID=UTC:20190627T193000
DTSTAMP:20260422T112020
CREATED:20190609T095918Z
LAST-MODIFIED:20190630T220828Z
UID:5909-1561663800-1561663800@rockcyclus.de
SUMMARY:Blues Company
DESCRIPTION:http://www.bluescompany.de/
URL:https://rockcyclus.de/event/blues-company/
LOCATION:Haus Am See\, Marschenhausweg 3\, Bremerhaven
END:VEVENT
END:VCALENDAR