BEGIN:VCALENDAR
VERSION:2.0
PRODID:-//Rockcyclus - ECPv5.16.0//NONSGML v1.0//EN
CALSCALE:GREGORIAN
METHOD:PUBLISH
X-WR-CALNAME:Rockcyclus
X-ORIGINAL-URL:https://rockcyclus.de
X-WR-CALDESC:Veranstaltungen für Rockcyclus
BEGIN:VTIMEZONE
TZID:UTC
BEGIN:STANDARD
TZOFFSETFROM:+0000
TZOFFSETTO:+0000
TZNAME:UTC
DTSTART:20170101T000000
END:STANDARD
END:VTIMEZONE
BEGIN:VEVENT
DTSTART;TZID=UTC:20170915T113000
DTEND;TZID=UTC:20170915T170000
DTSTAMP:20260422T184037
CREATED:20170605T155244Z
LAST-MODIFIED:20170617T140943Z
UID:1040-1505475000-1505494800@rockcyclus.de
SUMMARY:Flamenco Entre Amigos
DESCRIPTION:
URL:https://rockcyclus.de/event/boogielicious/
LOCATION:TiF\, Am Schaufenster 6\, Bremerhaven
END:VEVENT
END:VCALENDAR