BEGIN:VCALENDAR
VERSION:2.0
PRODID:-//Rockcyclus - ECPv5.16.0//NONSGML v1.0//EN
CALSCALE:GREGORIAN
METHOD:PUBLISH
X-WR-CALNAME:Rockcyclus
X-ORIGINAL-URL:https://rockcyclus.de
X-WR-CALDESC:Veranstaltungen für Rockcyclus
BEGIN:VTIMEZONE
TZID:UTC
BEGIN:STANDARD
TZOFFSETFROM:+0000
TZOFFSETTO:+0000
TZNAME:UTC
DTSTART:20190101T000000
END:STANDARD
END:VTIMEZONE
BEGIN:VEVENT
DTSTART;TZID=UTC:20190817T180000
DTEND;TZID=UTC:20190817T180000
DTSTAMP:20260421T041726
CREATED:20190623T103355Z
LAST-MODIFIED:20190702T093405Z
UID:6003-1566064800-1566064800@rockcyclus.de
SUMMARY:The Bourbon Preachers
DESCRIPTION:https://www.facebook.com/TheBourbonPreachers/
URL:https://rockcyclus.de/event/bourbon-schipper/
LOCATION:Veranstaltungsgelände Am Längengrad\, Am Längengrad\, Bremerhaven\, 27568
END:VEVENT
END:VCALENDAR