BEGIN:VCALENDAR
VERSION:2.0
PRODID:-//Rockcyclus - ECPv5.16.0//NONSGML v1.0//EN
CALSCALE:GREGORIAN
METHOD:PUBLISH
X-WR-CALNAME:Rockcyclus
X-ORIGINAL-URL:https://rockcyclus.de
X-WR-CALDESC:Veranstaltungen für Rockcyclus
BEGIN:VTIMEZONE
TZID:UTC
BEGIN:STANDARD
TZOFFSETFROM:+0000
TZOFFSETTO:+0000
TZNAME:UTC
DTSTART:20180101T000000
END:STANDARD
END:VTIMEZONE
BEGIN:VEVENT
DTSTART;TZID=UTC:20181018T180000
DTEND;TZID=UTC:20181018T180000
DTSTAMP:20260420T204530
CREATED:20180630T145734Z
LAST-MODIFIED:20181015T144210Z
UID:3927-1539885600-1539885600@rockcyclus.de
SUMMARY:Michel Ryeson
DESCRIPTION:https://www.facebook.com/MichelRyeson/
URL:https://rockcyclus.de/event/btos-bluesrock/
LOCATION:Markthalle Acht\, Domshof 8 - 12\, Bremen\, 28195
END:VEVENT
END:VCALENDAR