BEGIN:VCALENDAR
VERSION:2.0
PRODID:-//Rockcyclus - ECPv5.16.0//NONSGML v1.0//EN
CALSCALE:GREGORIAN
METHOD:PUBLISH
X-WR-CALNAME:Rockcyclus
X-ORIGINAL-URL:https://rockcyclus.de
X-WR-CALDESC:Veranstaltungen für Rockcyclus
BEGIN:VTIMEZONE
TZID:UTC
BEGIN:STANDARD
TZOFFSETFROM:+0000
TZOFFSETTO:+0000
TZNAME:UTC
DTSTART:20170101T000000
END:STANDARD
END:VTIMEZONE
BEGIN:VEVENT
DTSTART;TZID=UTC:20171110T193000
DTEND;TZID=UTC:20171110T193000
DTSTAMP:20260423T230341
CREATED:20171025T233503Z
LAST-MODIFIED:20171025T233503Z
UID:2049-1510342200-1510342200@rockcyclus.de
SUMMARY:Carla Mantel
DESCRIPTION:
URL:https://rockcyclus.de/event/carla-mantel-2/
LOCATION:Stadtbibliothek Bremerhaven\, Bgm.-Smidt-Str. 10\, Bremerhaven\, 27568
END:VEVENT
END:VCALENDAR