BEGIN:VCALENDAR
VERSION:2.0
PRODID:-//Rockcyclus - ECPv5.16.0//NONSGML v1.0//EN
CALSCALE:GREGORIAN
METHOD:PUBLISH
X-WR-CALNAME:Rockcyclus
X-ORIGINAL-URL:https://rockcyclus.de
X-WR-CALDESC:Veranstaltungen für Rockcyclus
BEGIN:VTIMEZONE
TZID:UTC
BEGIN:STANDARD
TZOFFSETFROM:+0000
TZOFFSETTO:+0000
TZNAME:UTC
DTSTART:20180101T000000
END:STANDARD
END:VTIMEZONE
BEGIN:VEVENT
DTSTART;TZID=UTC:20181226T193000
DTEND;TZID=UTC:20181226T193000
DTSTAMP:20260424T034956
CREATED:20181223T121223Z
LAST-MODIFIED:20181223T121223Z
UID:5121-1545852600-1545852600@rockcyclus.de
SUMMARY:Christmas Rock
DESCRIPTION:https://www.facebook.com/events/343667323135936/
URL:https://rockcyclus.de/event/christmas-rock/
LOCATION:Ahabs\, Am Querkamp 22\, Cuxhaven\, 27472
END:VEVENT
END:VCALENDAR