BEGIN:VCALENDAR
VERSION:2.0
PRODID:-//Rockcyclus - ECPv5.16.0//NONSGML v1.0//EN
CALSCALE:GREGORIAN
METHOD:PUBLISH
X-WR-CALNAME:Rockcyclus
X-ORIGINAL-URL:https://rockcyclus.de
X-WR-CALDESC:Veranstaltungen für Rockcyclus
BEGIN:VTIMEZONE
TZID:UTC
BEGIN:STANDARD
TZOFFSETFROM:+0000
TZOFFSETTO:+0000
TZNAME:UTC
DTSTART:20200101T000000
END:STANDARD
END:VTIMEZONE
BEGIN:VEVENT
DTSTART;TZID=UTC:20200308T170000
DTEND;TZID=UTC:20200308T170000
DTSTAMP:20260421T043352
CREATED:20191101T162700Z
LAST-MODIFIED:20200124T121620Z
UID:6646-1583686800-1583686800@rockcyclus.de
SUMMARY:Cliff Stevens & Band
DESCRIPTION:https://www.facebook.com/cliffstevensmusic/
URL:https://rockcyclus.de/event/cliff-stevens/
LOCATION:Tivoli Pub\, Gasstraße 14\, Bremerhaven
END:VEVENT
END:VCALENDAR