BEGIN:VCALENDAR
VERSION:2.0
PRODID:-//Rockcyclus - ECPv5.16.0//NONSGML v1.0//EN
CALSCALE:GREGORIAN
METHOD:PUBLISH
X-WR-CALNAME:Rockcyclus
X-ORIGINAL-URL:https://rockcyclus.de
X-WR-CALDESC:Veranstaltungen für Rockcyclus
BEGIN:VTIMEZONE
TZID:UTC
BEGIN:STANDARD
TZOFFSETFROM:+0000
TZOFFSETTO:+0000
TZNAME:UTC
DTSTART:20190101T000000
END:STANDARD
END:VTIMEZONE
BEGIN:VEVENT
DTSTART;TZID=UTC:20190818T180000
DTEND;TZID=UTC:20190818T180000
DTSTAMP:20260421T034836
CREATED:20190725T123815Z
LAST-MODIFIED:20190816T171809Z
UID:6214-1566151200-1566151200@rockcyclus.de
SUMMARY:Cotton Club
DESCRIPTION:https://www.facebook.com/Cotton-Club-275692685799140/
URL:https://rockcyclus.de/event/cotton-club-4/
LOCATION:Havenwelten\, Bremerhaven\, 27568
END:VEVENT
END:VCALENDAR