BEGIN:VCALENDAR
VERSION:2.0
PRODID:-//Rockcyclus - ECPv5.16.0//NONSGML v1.0//EN
CALSCALE:GREGORIAN
METHOD:PUBLISH
X-WR-CALNAME:Rockcyclus
X-ORIGINAL-URL:https://rockcyclus.de
X-WR-CALDESC:Veranstaltungen für Rockcyclus
BEGIN:VTIMEZONE
TZID:UTC
BEGIN:STANDARD
TZOFFSETFROM:+0000
TZOFFSETTO:+0000
TZNAME:UTC
DTSTART:20200101T000000
END:STANDARD
END:VTIMEZONE
BEGIN:VEVENT
DTSTART;TZID=UTC:20200307T210000
DTEND;TZID=UTC:20200307T210000
DTSTAMP:20260421T021428
CREATED:20200224T195731Z
LAST-MODIFIED:20200224T195731Z
UID:7230-1583614800-1583614800@rockcyclus.de
SUMMARY:Crossfire
DESCRIPTION:
URL:https://rockcyclus.de/event/crossfire-3/
LOCATION:Kuddels Musikkneipe\, Goethestraße 1\, Bremerhaven\, 27576
END:VEVENT
END:VCALENDAR