BEGIN:VCALENDAR
VERSION:2.0
PRODID:-//Rockcyclus - ECPv5.16.0//NONSGML v1.0//EN
CALSCALE:GREGORIAN
METHOD:PUBLISH
X-WR-CALNAME:Rockcyclus
X-ORIGINAL-URL:https://rockcyclus.de
X-WR-CALDESC:Veranstaltungen für Rockcyclus
BEGIN:VTIMEZONE
TZID:UTC
BEGIN:STANDARD
TZOFFSETFROM:+0000
TZOFFSETTO:+0000
TZNAME:UTC
DTSTART:20180101T000000
END:STANDARD
END:VTIMEZONE
BEGIN:VEVENT
DTSTART;TZID=UTC:20181228T210000
DTEND;TZID=UTC:20181228T210000
DTSTAMP:20260424T034156
CREATED:20181225T181351Z
LAST-MODIFIED:20181225T181351Z
UID:5135-1546030800-1546030800@rockcyclus.de
SUMMARY:Cruise
DESCRIPTION:
URL:https://rockcyclus.de/event/cruise/
LOCATION:Charlys Musikkneipe\, Wallstraße 26\, Oldenburg\, 26122
END:VEVENT
END:VCALENDAR