BEGIN:VCALENDAR
VERSION:2.0
PRODID:-//Rockcyclus - ECPv5.16.0//NONSGML v1.0//EN
CALSCALE:GREGORIAN
METHOD:PUBLISH
X-WR-CALNAME:Rockcyclus
X-ORIGINAL-URL:https://rockcyclus.de
X-WR-CALDESC:Veranstaltungen für Rockcyclus
BEGIN:VTIMEZONE
TZID:UTC
BEGIN:STANDARD
TZOFFSETFROM:+0000
TZOFFSETTO:+0000
TZNAME:UTC
DTSTART:20190101T000000
END:STANDARD
END:VTIMEZONE
BEGIN:VEVENT
DTSTART;TZID=UTC:20190118T203000
DTEND;TZID=UTC:20190118T203000
DTSTAMP:20260424T095620
CREATED:20181116T121243Z
LAST-MODIFIED:20181116T121243Z
UID:4907-1547843400-1547843400@rockcyclus.de
SUMMARY:Dead Mans Eyes | Goana | Cool Adorers
DESCRIPTION:https://www.facebook.com/deadmanseyes/\nhttps://www.facebook.com/The-Cool-Adorers-175891300006391/
URL:https://rockcyclus.de/event/dead-mans-eyes-goana-cool-adorers/
LOCATION:Cadillac\, Huntestraße 4a\, Oldenburg\, Niedersachsen\, 26135\, Deutschland
END:VEVENT
END:VCALENDAR