BEGIN:VCALENDAR
VERSION:2.0
PRODID:-//Rockcyclus - ECPv5.16.0//NONSGML v1.0//EN
CALSCALE:GREGORIAN
METHOD:PUBLISH
X-WR-CALNAME:Rockcyclus
X-ORIGINAL-URL:https://rockcyclus.de
X-WR-CALDESC:Veranstaltungen für Rockcyclus
BEGIN:VTIMEZONE
TZID:UTC
BEGIN:STANDARD
TZOFFSETFROM:+0000
TZOFFSETTO:+0000
TZNAME:UTC
DTSTART:20170101T000000
END:STANDARD
END:VTIMEZONE
BEGIN:VEVENT
DTSTART;TZID=UTC:20170708T213000
DTEND;TZID=UTC:20170708T213000
DTSTAMP:20260421T033851
CREATED:20170703T122705Z
LAST-MODIFIED:20170703T122705Z
UID:1399-1499549400-1499549400@rockcyclus.de
SUMMARY:Deep Down South
DESCRIPTION:
URL:https://rockcyclus.de/event/deep-down-south/
LOCATION:Cafe de Fiets\, Bgm.Smidt-Str. 155\, Bremerhaven\, 27568
END:VEVENT
END:VCALENDAR