BEGIN:VCALENDAR
VERSION:2.0
PRODID:-//Rockcyclus - ECPv5.16.0//NONSGML v1.0//EN
CALSCALE:GREGORIAN
METHOD:PUBLISH
X-WR-CALNAME:Rockcyclus
X-ORIGINAL-URL:https://rockcyclus.de
X-WR-CALDESC:Veranstaltungen für Rockcyclus
BEGIN:VTIMEZONE
TZID:UTC
BEGIN:STANDARD
TZOFFSETFROM:+0000
TZOFFSETTO:+0000
TZNAME:UTC
DTSTART:20190101T000000
END:STANDARD
END:VTIMEZONE
BEGIN:VEVENT
DTSTART;TZID=UTC:20190501T120000
DTEND;TZID=UTC:20190501T120000
DTSTAMP:20260425T110639
CREATED:20190424T161003Z
LAST-MODIFIED:20190424T161003Z
UID:5730-1556712000-1556712000@rockcyclus.de
SUMMARY:Delicious Divine
DESCRIPTION:https://www.delicious-divine.de
URL:https://rockcyclus.de/event/delicious-divine-9/
LOCATION:Große Kirche\, Bgm.-Smidt-Str. 47\, Bremerhaven\, 27568
END:VEVENT
END:VCALENDAR