BEGIN:VCALENDAR
VERSION:2.0
PRODID:-//Rockcyclus - ECPv5.16.0//NONSGML v1.0//EN
CALSCALE:GREGORIAN
METHOD:PUBLISH
X-WR-CALNAME:Rockcyclus
X-ORIGINAL-URL:https://rockcyclus.de
X-WR-CALDESC:Veranstaltungen für Rockcyclus
BEGIN:VTIMEZONE
TZID:UTC
BEGIN:STANDARD
TZOFFSETFROM:+0000
TZOFFSETTO:+0000
TZNAME:UTC
DTSTART:20190101T000000
END:STANDARD
END:VTIMEZONE
BEGIN:VEVENT
DTSTART;TZID=UTC:20190713T190000
DTEND;TZID=UTC:20190713T190000
DTSTAMP:20260422T000448
CREATED:20190514T072114Z
LAST-MODIFIED:20190706T080428Z
UID:5794-1563044400-1563044400@rockcyclus.de
SUMMARY:Neuenkirchener Open Air
DESCRIPTION:https://www.neuenkircheneropenair.de/
URL:https://rockcyclus.de/event/die-rauschen/
LOCATION:Sportplatz\, Cantruper Str. 18\, Neuenkirchen\, 27251
END:VEVENT
END:VCALENDAR