BEGIN:VCALENDAR
VERSION:2.0
PRODID:-//Rockcyclus - ECPv5.16.0//NONSGML v1.0//EN
CALSCALE:GREGORIAN
METHOD:PUBLISH
X-WR-CALNAME:Rockcyclus
X-ORIGINAL-URL:https://rockcyclus.de
X-WR-CALDESC:Veranstaltungen für Rockcyclus
BEGIN:VTIMEZONE
TZID:UTC
BEGIN:STANDARD
TZOFFSETFROM:+0000
TZOFFSETTO:+0000
TZNAME:UTC
DTSTART:20190101T000000
END:STANDARD
END:VTIMEZONE
BEGIN:VEVENT
DTSTART;TZID=UTC:20190126T200000
DTEND;TZID=UTC:20190126T200000
DTSTAMP:20260424T151828
CREATED:20190103T155050Z
LAST-MODIFIED:20190103T155050Z
UID:5204-1548532800-1548532800@rockcyclus.de
SUMMARY:DJ Soulicious feat. Maxi Suhr
DESCRIPTION:https://www.maxi-suhr.de/de/
URL:https://rockcyclus.de/event/dj-soulicious-feat-maxi-suhr/
LOCATION:Quartier 159\, Bürgermeister-Smidt-Straße 159\, Bremerhaven\, 27568
END:VEVENT
END:VCALENDAR