BEGIN:VCALENDAR
VERSION:2.0
PRODID:-//Rockcyclus - ECPv5.16.0//NONSGML v1.0//EN
CALSCALE:GREGORIAN
METHOD:PUBLISH
X-WR-CALNAME:Rockcyclus
X-ORIGINAL-URL:https://rockcyclus.de
X-WR-CALDESC:Veranstaltungen für Rockcyclus
BEGIN:VTIMEZONE
TZID:UTC
BEGIN:STANDARD
TZOFFSETFROM:+0000
TZOFFSETTO:+0000
TZNAME:UTC
DTSTART:20180101T000000
END:STANDARD
END:VTIMEZONE
BEGIN:VEVENT
DTSTART;TZID=UTC:20180426T200000
DTEND;TZID=UTC:20180426T200000
DTSTAMP:20260421T100212
CREATED:20180422T101209Z
LAST-MODIFIED:20180422T101209Z
UID:3295-1524772800-1524772800@rockcyclus.de
SUMMARY:Dorit Jakobs
DESCRIPTION:https://www.facebook.com/dorit.jakobs
URL:https://rockcyclus.de/event/dorit-jakobs-2/
LOCATION:Karton\, Am Deich 86\, Bremen\, 28199
END:VEVENT
END:VCALENDAR