BEGIN:VCALENDAR
VERSION:2.0
PRODID:-//Rockcyclus - ECPv5.16.0//NONSGML v1.0//EN
CALSCALE:GREGORIAN
METHOD:PUBLISH
X-WR-CALNAME:Rockcyclus
X-ORIGINAL-URL:https://rockcyclus.de
X-WR-CALDESC:Veranstaltungen für Rockcyclus
BEGIN:VTIMEZONE
TZID:UTC
BEGIN:STANDARD
TZOFFSETFROM:+0000
TZOFFSETTO:+0000
TZNAME:UTC
DTSTART:20180101T000000
END:STANDARD
END:VTIMEZONE
BEGIN:VEVENT
DTSTART;TZID=UTC:20181201T200000
DTEND;TZID=UTC:20181201T200000
DTSTAMP:20260423T140720
CREATED:20181116T114526Z
LAST-MODIFIED:20181116T114526Z
UID:4904-1543694400-1543694400@rockcyclus.de
SUMMARY:Dr. Orgel | Koona Phony
DESCRIPTION:https://www.dr-orgel.de
URL:https://rockcyclus.de/event/dr-orgel-koona-phony/
LOCATION:Spedition\, Am Handelsmuseum 9\, Bremen\, 28195
END:VEVENT
END:VCALENDAR