BEGIN:VCALENDAR
VERSION:2.0
PRODID:-//Rockcyclus - ECPv5.16.0//NONSGML v1.0//EN
CALSCALE:GREGORIAN
METHOD:PUBLISH
X-WR-CALNAME:Rockcyclus
X-ORIGINAL-URL:https://rockcyclus.de
X-WR-CALDESC:Veranstaltungen für Rockcyclus
BEGIN:VTIMEZONE
TZID:UTC
BEGIN:STANDARD
TZOFFSETFROM:+0000
TZOFFSETTO:+0000
TZNAME:UTC
DTSTART:20190101T000000
END:STANDARD
END:VTIMEZONE
BEGIN:VEVENT
DTSTART;TZID=UTC:20190126T200000
DTEND;TZID=UTC:20190126T200000
DTSTAMP:20260424T153925
CREATED:20181211T162756Z
LAST-MODIFIED:20181211T162756Z
UID:5048-1548532800-1548532800@rockcyclus.de
SUMMARY:Dutch Swing College Band
DESCRIPTION:https://dsc.nl/de/
URL:https://rockcyclus.de/event/dutch-swing-college-band/
LOCATION:HAPAG Hallen\, Lentzstraße 1\, Cuxhaven\, 27472
END:VEVENT
END:VCALENDAR