BEGIN:VCALENDAR
VERSION:2.0
PRODID:-//Rockcyclus - ECPv5.16.0//NONSGML v1.0//EN
CALSCALE:GREGORIAN
METHOD:PUBLISH
X-WR-CALNAME:Rockcyclus
X-ORIGINAL-URL:https://rockcyclus.de
X-WR-CALDESC:Veranstaltungen für Rockcyclus
BEGIN:VTIMEZONE
TZID:UTC
BEGIN:STANDARD
TZOFFSETFROM:+0000
TZOFFSETTO:+0000
TZNAME:UTC
DTSTART:20170101T000000
END:STANDARD
END:VTIMEZONE
BEGIN:VEVENT
DTSTART;TZID=UTC:20171104T203000
DTEND;TZID=UTC:20171104T203000
DTSTAMP:20260421T084630
CREATED:20171104T160610Z
LAST-MODIFIED:20171104T160610Z
UID:2169-1509827400-1509827400@rockcyclus.de
SUMMARY:Expand & Cherries On A Blacklist
DESCRIPTION:
URL:https://rockcyclus.de/event/expand-cherries-on-a-blacklist/
LOCATION:Wirtshaus Alt Bremervörde\, Alte Str. 76\, Bremervörde\, 27432
END:VEVENT
END:VCALENDAR