BEGIN:VCALENDAR
VERSION:2.0
PRODID:-//Rockcyclus - ECPv5.16.0//NONSGML v1.0//EN
CALSCALE:GREGORIAN
METHOD:PUBLISH
X-WR-CALNAME:Rockcyclus
X-ORIGINAL-URL:https://rockcyclus.de
X-WR-CALDESC:Veranstaltungen für Rockcyclus
BEGIN:VTIMEZONE
TZID:UTC
BEGIN:STANDARD
TZOFFSETFROM:+0000
TZOFFSETTO:+0000
TZNAME:UTC
DTSTART:20190101T000000
END:STANDARD
END:VTIMEZONE
BEGIN:VEVENT
DTSTART;TZID=UTC:20190713T190000
DTEND;TZID=UTC:20190713T190000
DTSTAMP:20260423T105938
CREATED:20190119T125709Z
LAST-MODIFIED:20190706T080810Z
UID:5285-1563044400-1563044400@rockcyclus.de
SUMMARY:Farmers Rockfete
DESCRIPTION:
URL:https://rockcyclus.de/event/farmers-rockfete/
LOCATION:Hemmis Rockfarm\, Padingbütteler Strich 14\, Padingbüttel\, 27632\, Deutschland
END:VEVENT
END:VCALENDAR