BEGIN:VCALENDAR
VERSION:2.0
PRODID:-//Rockcyclus - ECPv5.16.0//NONSGML v1.0//EN
CALSCALE:GREGORIAN
METHOD:PUBLISH
X-WR-CALNAME:Rockcyclus
X-ORIGINAL-URL:https://rockcyclus.de
X-WR-CALDESC:Veranstaltungen für Rockcyclus
BEGIN:VTIMEZONE
TZID:UTC
BEGIN:STANDARD
TZOFFSETFROM:+0000
TZOFFSETTO:+0000
TZNAME:UTC
DTSTART:20220101T000000
END:STANDARD
END:VTIMEZONE
BEGIN:VEVENT
DTSTART;TZID=UTC:20221105T200000
DTEND;TZID=UTC:20221105T200000
DTSTAMP:20260421T202340
CREATED:20221101T183057Z
LAST-MODIFIED:20221101T183057Z
UID:8988-1667678400-1667678400@rockcyclus.de
SUMMARY:Fischer & Rabe
DESCRIPTION:https://www.facebook.com/events/616536136539090
URL:https://rockcyclus.de/event/fischer-rabe/
LOCATION:Cafe de Fiets\, Bgm.Smidt-Str. 155\, Bremerhaven\, 27568
END:VEVENT
END:VCALENDAR