BEGIN:VCALENDAR
VERSION:2.0
PRODID:-//Rockcyclus - ECPv5.16.0//NONSGML v1.0//EN
CALSCALE:GREGORIAN
METHOD:PUBLISH
X-WR-CALNAME:Rockcyclus
X-ORIGINAL-URL:https://rockcyclus.de
X-WR-CALDESC:Veranstaltungen für Rockcyclus
BEGIN:VTIMEZONE
TZID:UTC
BEGIN:STANDARD
TZOFFSETFROM:+0000
TZOFFSETTO:+0000
TZNAME:UTC
DTSTART:20190101T000000
END:STANDARD
END:VTIMEZONE
BEGIN:VEVENT
DTSTART;TZID=UTC:20190817T210000
DTEND;TZID=UTC:20190817T210000
DTSTAMP:20260421T022008
CREATED:20190612T091624Z
LAST-MODIFIED:20190612T091624Z
UID:5934-1566075600-1566075600@rockcyclus.de
SUMMARY:Flax
DESCRIPTION:https://www.flax-music.com/
URL:https://rockcyclus.de/event/flax-6/
LOCATION:Kuddels Musikkneipe\, Goethestraße 1\, Bremerhaven\, 27576
END:VEVENT
END:VCALENDAR