BEGIN:VCALENDAR
VERSION:2.0
PRODID:-//Rockcyclus - ECPv5.16.0//NONSGML v1.0//EN
CALSCALE:GREGORIAN
METHOD:PUBLISH
X-WR-CALNAME:Rockcyclus
X-ORIGINAL-URL:https://rockcyclus.de
X-WR-CALDESC:Veranstaltungen für Rockcyclus
BEGIN:VTIMEZONE
TZID:UTC
BEGIN:STANDARD
TZOFFSETFROM:+0000
TZOFFSETTO:+0000
TZNAME:UTC
DTSTART:20190101T000000
END:STANDARD
END:VTIMEZONE
BEGIN:VEVENT
DTSTART;TZID=UTC:20190201T200000
DTEND;TZID=UTC:20190201T200000
DTSTAMP:20260424T205045
CREATED:20190106T120857Z
LAST-MODIFIED:20190106T120857Z
UID:5227-1549051200-1549051200@rockcyclus.de
SUMMARY:Green 4 A Day
DESCRIPTION:https://green4aday.jimdo.com/
URL:https://rockcyclus.de/event/green-4-a-day/
LOCATION:Headliner\, Bahnhofstraße 26a\, Nordenham\, 26954
END:VEVENT
END:VCALENDAR