BEGIN:VCALENDAR
VERSION:2.0
PRODID:-//Rockcyclus - ECPv5.16.0//NONSGML v1.0//EN
CALSCALE:GREGORIAN
METHOD:PUBLISH
X-WR-CALNAME:Rockcyclus
X-ORIGINAL-URL:https://rockcyclus.de
X-WR-CALDESC:Veranstaltungen für Rockcyclus
BEGIN:VTIMEZONE
TZID:UTC
BEGIN:STANDARD
TZOFFSETFROM:+0000
TZOFFSETTO:+0000
TZNAME:UTC
DTSTART:20180101T000000
END:STANDARD
END:VTIMEZONE
BEGIN:VEVENT
DTSTART;TZID=UTC:20180414T203000
DTEND;TZID=UTC:20180414T203000
DTSTAMP:20260420T132528
CREATED:20180331T141245Z
LAST-MODIFIED:20180331T141245Z
UID:3163-1523737800-1523737800@rockcyclus.de
SUMMARY:Harbor's Night
DESCRIPTION:Quiron\, Nuking Moose und Dead Acid
URL:https://rockcyclus.de/event/harbors-night/
LOCATION:Zollkantine\, Hansator 1\, Bremen\, Bremen\, 28217\, Deutschland
END:VEVENT
END:VCALENDAR