BEGIN:VCALENDAR
VERSION:2.0
PRODID:-//Rockcyclus - ECPv5.16.0//NONSGML v1.0//EN
CALSCALE:GREGORIAN
METHOD:PUBLISH
X-WR-CALNAME:Rockcyclus
X-ORIGINAL-URL:https://rockcyclus.de
X-WR-CALDESC:Veranstaltungen für Rockcyclus
BEGIN:VTIMEZONE
TZID:UTC
BEGIN:STANDARD
TZOFFSETFROM:+0000
TZOFFSETTO:+0000
TZNAME:UTC
DTSTART:20190101T000000
END:STANDARD
END:VTIMEZONE
BEGIN:VEVENT
DTSTART;TZID=UTC:20190712T200000
DTEND;TZID=UTC:20190712T200000
DTSTAMP:20260422T014743
CREATED:20190623T110654Z
LAST-MODIFIED:20190707T101216Z
UID:6011-1562961600-1562961600@rockcyclus.de
SUMMARY:Hegemann & Ziegler - Boogie Piano
DESCRIPTION:http://www.joerghegemann.info/
URL:https://rockcyclus.de/event/hegemann_ziegler-2019/
LOCATION:Thieles Garten\, Mecklenburger Weg 100\, Bremerhaven\, 27578
END:VEVENT
END:VCALENDAR