BEGIN:VCALENDAR
VERSION:2.0
PRODID:-//Rockcyclus - ECPv5.16.0//NONSGML v1.0//EN
CALSCALE:GREGORIAN
METHOD:PUBLISH
X-WR-CALNAME:Rockcyclus
X-ORIGINAL-URL:https://rockcyclus.de
X-WR-CALDESC:Veranstaltungen für Rockcyclus
BEGIN:VTIMEZONE
TZID:UTC
BEGIN:STANDARD
TZOFFSETFROM:+0000
TZOFFSETTO:+0000
TZNAME:UTC
DTSTART:20180101T000000
END:STANDARD
END:VTIMEZONE
BEGIN:VEVENT
DTSTART;TZID=UTC:20181207T203000
DTEND;TZID=UTC:20181207T203000
DTSTAMP:20260423T173255
CREATED:20181203T154138Z
LAST-MODIFIED:20181203T154252Z
UID:4996-1544214600-1544214600@rockcyclus.de
SUMMARY:Hill & Ray
DESCRIPTION:https://www.hillandray.com
URL:https://rockcyclus.de/event/hilla-ray/
LOCATION:Ahabs\, Am Querkamp 22\, Cuxhaven\, 27472
END:VEVENT
END:VCALENDAR