BEGIN:VCALENDAR
VERSION:2.0
PRODID:-//Rockcyclus - ECPv5.16.0//NONSGML v1.0//EN
CALSCALE:GREGORIAN
METHOD:PUBLISH
X-WR-CALNAME:Rockcyclus
X-ORIGINAL-URL:https://rockcyclus.de
X-WR-CALDESC:Veranstaltungen für Rockcyclus
BEGIN:VTIMEZONE
TZID:UTC
BEGIN:STANDARD
TZOFFSETFROM:+0000
TZOFFSETTO:+0000
TZNAME:UTC
DTSTART:20190101T000000
END:STANDARD
END:VTIMEZONE
BEGIN:VEVENT
DTSTART;TZID=UTC:20190503T190000
DTEND;TZID=UTC:20190503T190000
DTSTAMP:20260425T142952
CREATED:20190429T081738Z
LAST-MODIFIED:20190429T081738Z
UID:5754-1556910000-1556910000@rockcyclus.de
SUMMARY:Hot'n'Nasty
DESCRIPTION:https://www.hot-n-nasty.de/
URL:https://rockcyclus.de/event/hotnnasty-3/
LOCATION:Ahabs\, Am Querkamp 22\, Cuxhaven\, 27472
END:VEVENT
END:VCALENDAR