BEGIN:VCALENDAR
VERSION:2.0
PRODID:-//Rockcyclus - ECPv5.16.0//NONSGML v1.0//EN
CALSCALE:GREGORIAN
METHOD:PUBLISH
X-WR-CALNAME:Rockcyclus
X-ORIGINAL-URL:https://rockcyclus.de
X-WR-CALDESC:Veranstaltungen für Rockcyclus
BEGIN:VTIMEZONE
TZID:UTC
BEGIN:STANDARD
TZOFFSETFROM:+0000
TZOFFSETTO:+0000
TZNAME:UTC
DTSTART:20180101T000000
END:STANDARD
END:VTIMEZONE
BEGIN:VEVENT
DTSTART;TZID=UTC:20181205T200000
DTEND;TZID=UTC:20181205T200000
DTSTAMP:20260423T191356
CREATED:20180528T151508Z
LAST-MODIFIED:20180528T151508Z
UID:3645-1544040000-1544040000@rockcyclus.de
SUMMARY:Inga Rumpf & Friends
DESCRIPTION:https://www.facebook.com/ingarumpf/
URL:https://rockcyclus.de/event/inga-rumpf-friends-2/
LOCATION:Kulturetage\, Bahnhofstraße 11\, Oldenburg\, 26122
END:VEVENT
END:VCALENDAR