BEGIN:VCALENDAR
VERSION:2.0
PRODID:-//Rockcyclus - ECPv5.16.0//NONSGML v1.0//EN
CALSCALE:GREGORIAN
METHOD:PUBLISH
X-WR-CALNAME:Rockcyclus
X-ORIGINAL-URL:https://rockcyclus.de
X-WR-CALDESC:Veranstaltungen für Rockcyclus
BEGIN:VTIMEZONE
TZID:UTC
BEGIN:STANDARD
TZOFFSETFROM:+0000
TZOFFSETTO:+0000
TZNAME:UTC
DTSTART:20250101T000000
END:STANDARD
END:VTIMEZONE
BEGIN:VEVENT
DTSTART;TZID=UTC:20250622T110000
DTEND;TZID=UTC:20250622T160000
DTSTAMP:20260420T171529
CREATED:20250604T132511Z
LAST-MODIFIED:20250604T132511Z
UID:10544-1750590000-1750608000@rockcyclus.de
SUMMARY:Instrumentenbörse
DESCRIPTION:
URL:https://rockcyclus.de/event/instrumentenboerse/
LOCATION:Kuz Kleinbahnhof\, Am Kleinbahnhof 1\, Osterholz-Scharmbeck\, 27711
END:VEVENT
END:VCALENDAR