BEGIN:VCALENDAR
VERSION:2.0
PRODID:-//Rockcyclus - ECPv5.16.0//NONSGML v1.0//EN
CALSCALE:GREGORIAN
METHOD:PUBLISH
X-WR-CALNAME:Rockcyclus
X-ORIGINAL-URL:https://rockcyclus.de
X-WR-CALDESC:Veranstaltungen für Rockcyclus
BEGIN:VTIMEZONE
TZID:UTC
BEGIN:STANDARD
TZOFFSETFROM:+0000
TZOFFSETTO:+0000
TZNAME:UTC
DTSTART:20170101T000000
END:STANDARD
END:VTIMEZONE
BEGIN:VEVENT
DTSTART;TZID=UTC:20171212T180000
DTEND;TZID=UTC:20171212T180000
DTSTAMP:20260420T093814
CREATED:20171202T171404Z
LAST-MODIFIED:20171202T171404Z
UID:2334-1513101600-1513101600@rockcyclus.de
SUMMARY:Jam Café
DESCRIPTION:Musikersession
URL:https://rockcyclus.de/event/jam-cafe/
LOCATION:Juz Friese\, Friesenstraße 124\, Bremen\, 28203
END:VEVENT
END:VCALENDAR