BEGIN:VCALENDAR
VERSION:2.0
PRODID:-//Rockcyclus - ECPv5.16.0//NONSGML v1.0//EN
CALSCALE:GREGORIAN
METHOD:PUBLISH
X-WR-CALNAME:Rockcyclus
X-ORIGINAL-URL:https://rockcyclus.de
X-WR-CALDESC:Veranstaltungen für Rockcyclus
BEGIN:VTIMEZONE
TZID:UTC
BEGIN:STANDARD
TZOFFSETFROM:+0000
TZOFFSETTO:+0000
TZNAME:UTC
DTSTART:20230101T000000
END:STANDARD
END:VTIMEZONE
BEGIN:VEVENT
DTSTART;TZID=UTC:20230120T190000
DTEND;TZID=UTC:20230120T190000
DTSTAMP:20260423T092727
CREATED:20230102T163617Z
LAST-MODIFIED:20230102T163617Z
UID:9145-1674241200-1674241200@rockcyclus.de
SUMMARY:JaM-Quartett
DESCRIPTION:https://www.facebook.com/events/1210979089500127
URL:https://rockcyclus.de/event/jam-quartett/
LOCATION:Quartier 159\, Bürgermeister-Smidt-Straße 159\, Bremerhaven\, 27568
END:VEVENT
END:VCALENDAR