BEGIN:VCALENDAR
VERSION:2.0
PRODID:-//Rockcyclus - ECPv5.16.0//NONSGML v1.0//EN
CALSCALE:GREGORIAN
METHOD:PUBLISH
X-WR-CALNAME:Rockcyclus
X-ORIGINAL-URL:https://rockcyclus.de
X-WR-CALDESC:Veranstaltungen für Rockcyclus
BEGIN:VTIMEZONE
TZID:UTC
BEGIN:STANDARD
TZOFFSETFROM:+0000
TZOFFSETTO:+0000
TZNAME:UTC
DTSTART:20180101T000000
END:STANDARD
END:VTIMEZONE
BEGIN:VEVENT
DTSTART;TZID=UTC:20181129T180000
DTEND;TZID=UTC:20181129T180000
DTSTAMP:20260423T142613
CREATED:20180817T161629Z
LAST-MODIFIED:20180817T161629Z
UID:4440-1543514400-1543514400@rockcyclus.de
SUMMARY:Joanna Scott Douglas & Jan Jedding
DESCRIPTION:https://www.facebook.com/joanna.scott.douglas/
URL:https://rockcyclus.de/event/joanna-scott-douglas-jan-jedding/
LOCATION:Markthalle Acht\, Domshof 8 - 12\, Bremen\, 28195
END:VEVENT
END:VCALENDAR