BEGIN:VCALENDAR
VERSION:2.0
PRODID:-//Rockcyclus - ECPv5.16.0//NONSGML v1.0//EN
CALSCALE:GREGORIAN
METHOD:PUBLISH
X-WR-CALNAME:Rockcyclus
X-ORIGINAL-URL:https://rockcyclus.de
X-WR-CALDESC:Veranstaltungen für Rockcyclus
BEGIN:VTIMEZONE
TZID:UTC
BEGIN:STANDARD
TZOFFSETFROM:+0000
TZOFFSETTO:+0000
TZNAME:UTC
DTSTART:20200101T000000
END:STANDARD
END:VTIMEZONE
BEGIN:VEVENT
DTSTART;TZID=UTC:20200308T153000
DTEND;TZID=UTC:20200308T153000
DTSTAMP:20260421T034829
CREATED:20200110T184104Z
LAST-MODIFIED:20200110T184104Z
UID:6983-1583681400-1583681400@rockcyclus.de
SUMMARY:Joe Astray
DESCRIPTION:https://www.facebook.com/yourastray/
URL:https://rockcyclus.de/event/joe-astray-2/
LOCATION:Findus\, Bürgermeister-Smidt-Straße 218 212\, Bremerhaven\, Bremen\, 27568\, Deutschland
END:VEVENT
END:VCALENDAR