BEGIN:VCALENDAR
VERSION:2.0
PRODID:-//Rockcyclus - ECPv5.16.0//NONSGML v1.0//EN
CALSCALE:GREGORIAN
METHOD:PUBLISH
X-WR-CALNAME:Rockcyclus
X-ORIGINAL-URL:https://rockcyclus.de
X-WR-CALDESC:Veranstaltungen für Rockcyclus
BEGIN:VTIMEZONE
TZID:UTC
BEGIN:STANDARD
TZOFFSETFROM:+0000
TZOFFSETTO:+0000
TZNAME:UTC
DTSTART:20180101T000000
END:STANDARD
END:VTIMEZONE
BEGIN:VEVENT
DTSTART;TZID=UTC:20180415T170000
DTEND;TZID=UTC:20180415T170000
DTSTAMP:20260420T110231
CREATED:20171230T181417Z
LAST-MODIFIED:20171230T181417Z
UID:2483-1523811600-1523811600@rockcyclus.de
SUMMARY:Jörg Seidel
DESCRIPTION:The Hot Mallets Trio feat. Hendrik Meurkens & Peter Inagawa
URL:https://rockcyclus.de/event/joerg-seidel-2/
LOCATION:TiF\, Am Schaufenster 6\, Bremerhaven
END:VEVENT
END:VCALENDAR